BEGIN:VCALENDAR
VERSION:2.0
PRODID:-//ChamberMaster//Event Calendar 2.0//EN
METHOD:PUBLISH
X-PUBLISHED-TTL:P1H
REFRESH-INTERVAL:P1H
CALSCALE:GREGORIAN
BEGIN:VTIMEZONE
TZID:America/Chicago
BEGIN:DAYLIGHT
RRULE:FREQ=YEARLY;BYMONTH=3;BYDAY=2SU
DTSTART:20070101T000000
TZOFFSETFROM:-0600
TZOFFSETTO:-0500
TZNAME:Central Daylight Time
END:DAYLIGHT
BEGIN:STANDARD
RRULE:FREQ=YEARLY;BYMONTH=11;BYDAY=1SU
DTSTART:20070101T000000
TZOFFSETFROM:-0500
TZOFFSETTO:-0600
TZNAME:Central Standard Time
END:STANDARD
END:VTIMEZONE
BEGIN:VEVENT
DTSTART;TZID=America/Chicago:20260607T110000
DTEND;TZID=America/Chicago:20260607T150000
X-MICROSOFT-CDO-ALLDAYEVENT:FALSE
SUMMARY:Ghostbusters Day Interactive event at Volo Museum!
DESCRIPTION:Get ready to celebrate National Ghostbusters Day with an action-packed\, slime-filled experience as we team up with our friends from Windy City Ghostbusters for a day you won’t forget!\nStep into the world of Ghostbusters with LIVE interactive demonstrations of real ghostbusting gear\, get up close with the iconic Ecto-1\, and snap photos with the team themselves!\nBut that’s not all…\n🧪 Learn how to make your own genuine green Slimer slime\n📸 Capture unforgettable moments with the Ghostbusters crew\n🚗 See the legendary Ecto-1 up close\n🥧 And get ready to cheer (or compete!) in our hilarious marshmallow pie eating contest!\nBring your friends\, bring your family\, and bring your appetite for fun—this is one event you don’t want to miss!\n🎟️ FREE with Platinum Pass\, Gold Pass\, or regular paid admission to Volo Museum\nDon’t miss your chance to bust some ghosts and make some memories—we’ll see you there! 👻✨\nVisit https://volofun.com/event/ghostbusters-day-interactive-event-at-volo-museum/ for details!
X-ALT-DESC;FMTTYPE=text/html:Get ready to celebrate National Ghostbusters Day with an action-packed\, slime-filled experience as we team up with our friends from Windy City Ghostbusters for a day you won’t forget!\nStep into the world of Ghostbusters with LIVE interactive demonstrations of real ghostbusting gear\, get up close with the iconic Ecto-1\, and snap photos with the team themselves!\nBut that’s not all…\n🧪 Learn how to make your own genuine green Slimer slime\n📸 Capture unforgettable moments with the Ghostbusters crew\n🚗 See the legendary Ecto-1 up close\n🥧 And get ready to cheer (or compete!) in our hilarious marshmallow pie eating contest!\nBring your friends\, bring your family\, and bring your appetite for fun—this is one event you don’t want to miss!\n🎟️ FREE with Platinum Pass\, Gold Pass\, or regular paid admission to Volo Museum\nDon’t miss your chance to bust some ghosts and make some memories—we’ll see you there! 👻✨\nVisit https://volofun.com/event/ghostbusters-day-interactive-event-at-volo-museum/ for details!
LOCATION:27582 Volo Village Rd Volo IL 60073
UID:e.1854.1436509
SEQUENCE:3
DTSTAMP:20260422T000753Z
URL:https://business.clchamber.com/events/Details/ghostbusters-day-interactive-event-at-volo-museum-1700528?sourceTypeId=Hub
END:VEVENT
END:VCALENDAR
