BEGIN:VCALENDAR
VERSION:2.0
PRODID:-//ChamberMaster//Event Calendar 2.0//EN
METHOD:PUBLISH
X-PUBLISHED-TTL:P1H
REFRESH-INTERVAL:P1H
CALSCALE:GREGORIAN
BEGIN:VTIMEZONE
TZID:America/Chicago
BEGIN:DAYLIGHT
RRULE:FREQ=YEARLY;BYMONTH=3;BYDAY=2SU
DTSTART:20070101T000000
TZOFFSETFROM:-0600
TZOFFSETTO:-0500
TZNAME:Central Daylight Time
END:DAYLIGHT
BEGIN:STANDARD
RRULE:FREQ=YEARLY;BYMONTH=11;BYDAY=1SU
DTSTART:20070101T000000
TZOFFSETFROM:-0500
TZOFFSETTO:-0600
TZNAME:Central Standard Time
END:STANDARD
END:VTIMEZONE
BEGIN:VEVENT
DTSTART;TZID=America/Chicago:20260419T150000
DTEND;TZID=America/Chicago:20260419T170000
X-MICROSOFT-CDO-ALLDAYEVENT:FALSE
SUMMARY:An Afternoon with Levi Kreis
DESCRIPTION:Levi Kreis is a Tony Award winner known for originating the role of Jerry Lee Lewis in Broadway's Million Dollar Quartet. The role won Levi the Tony Award for Best Featured Actor\, an Outer Critics Circle Award and a Drama League Nomination. Other highlights include Hermes in Hadestown First National Tour\, Broadway's Tony nominated revival of Violet\, and Roger in the Broadway National Tour of Rent. Films include Frailty\, The Divide\, and A Very Sordid Wedding. Levi is currently in development with his first original musical theatre work as writer of book\, music and lyrics along with starring. To follow developments and go behind the scenes\, follow Levi's exclusive social media world at levikreis.com/fanclubTICKETS: $35.00 (Including Fees)
X-ALT-DESC;FMTTYPE=text/html:<!DOCTYPE html><html><head><title></title></head><body aria-disabled="false"><p>Levi Kreis is a Tony Award winner known for originating the role of Jerry Lee Lewis in Broadway&rsquo\;s Million Dollar Quartet. The role won Levi the Tony Award for Best Featured Actor\, an Outer Critics Circle Award and a Drama League Nomination. Other highlights include Hermes in Hadestown First National Tour\, Broadway&rsquo\;s Tony nominated revival of Violet\, and Roger in the Broadway National Tour of Rent. Films include Frailty\, The Divide\, and A Very Sordid Wedding. Levi is currently in development with his first original musical theatre work as writer of book\, music and lyrics along with starring. To follow developments and go behind the scenes\, follow Levi&rsquo\;s exclusive social media world at <a fr-original-style="" href="//levikreis.com/fanclub" style="user-select: auto\;">levikreis.com/fanclub</a></p><p><strong fr-original-style='font-weight: bold\; color: rgb(51\, 51\, 51)\; font-family: "Open Sans"\, "Helvetica Neue"\, Helvetica\, Arial\, sans-serif\; font-size: 18.6667px\; font-style: normal\; font-variant-ligatures: normal\; font-variant-caps: normal\; letter-spacing: normal\; orphans: 2\; text-align: left\; text-indent: 0px\; text-transform: none\; widows: 2\; word-spacing: 0px\; -webkit-text-stroke-width: 0px\; white-space: normal\; background-color: rgb(255\, 255\, 255)\; text-decoration-thickness: initial\; text-decoration-style: initial\; text-decoration-color: initial\;' style='font-weight: bold\; color: rgb(51\, 51\, 51)\; font-family: "Open Sans"\, "Helvetica Neue"\, Helvetica\, Arial\, sans-serif\; font-size: 18.6667px\; font-style: normal\; font-variant-ligatures: normal\; font-variant-caps: normal\; letter-spacing: normal\; orphans: 2\; text-align: left\; text-indent: 0px\; text-transform: none\; widows: 2\; word-spacing: 0px\; -webkit-text-stroke-width: 0px\; white-space: normal\; background-color: rgb(255\, 255\, 255)\; text-decoration-thickness: initial\; text-decoration-style: initial\; text-decoration-color: initial\;'><span style="color: black\; border: 1pt none windowtext\; padding: 0in\;">TICKETS: $35.00 (Including Fees)</span></strong> </p></body></html>
LOCATION:121 W. Van Buren Street Woodstock IL 60098
UID:e.1854.1396860
SEQUENCE:3
DTSTAMP:20260422T000921Z
URL:https://business.clchamber.com/events/Details/an-afternoon-with-levi-kreis-1650590?sourceTypeId=Hub
END:VEVENT
END:VCALENDAR
